{
 "currentVersion": 11.3,
 "cimVersion": "3.3.0",
 "serviceDescription": "",
 "mapName": "Map",
 "description": "",
 "copyrightText": "",
 "supportsDynamicLayers": true,
 "layers": [
  {
   "id": 0,
   "name": "ref.Geo_LIN_01M_3035_CNTR_2024_COASTL",
   "parentLayerId": -1,
   "defaultVisibility": true,
   "subLayerIds": null,
   "minScale": 0,
   "maxScale": 0,
   "type": "Feature Layer",
   "geometryType": "esriGeometryPolyline",
   "supportsDynamicLegends": true
  },
  {
   "id": 1,
   "name": "ref.Geo_LIN_01M_3035_CNTR_2024_INLAND",
   "parentLayerId": -1,
   "defaultVisibility": true,
   "subLayerIds": null,
   "minScale": 0,
   "maxScale": 0,
   "type": "Feature Layer",
   "geometryType": "esriGeometryPolyline",
   "supportsDynamicLegends": true
  },
  {
   "id": 2,
   "name": "kosovo",
   "parentLayerId": -1,
   "defaultVisibility": true,
   "subLayerIds": null,
   "minScale": 0,
   "maxScale": 0,
   "type": "Feature Layer",
   "geometryType": "esriGeometryPolygon",
   "supportsDynamicLegends": true
  },
  {
   "id": 3,
   "name": "ref.Geo_PLG_NUTS_01M_3035",
   "parentLayerId": -1,
   "defaultVisibility": true,
   "subLayerIds": null,
   "minScale": 6091339.12712302,
   "maxScale": 0,
   "type": "Feature Layer",
   "geometryType": "esriGeometryPolygon",
   "supportsDynamicLegends": true
  },
  {
   "id": 4,
   "name": "ref.LAU_GeometryPLG",
   "parentLayerId": -1,
   "defaultVisibility": true,
   "subLayerIds": null,
   "minScale": 1000000,
   "maxScale": 0,
   "type": "Feature Layer",
   "geometryType": "esriGeometryPolygon",
   "supportsDynamicLegends": true
  },
  {
   "id": 5,
   "name": "ref.Geo_PLG_Countries_01M_3035",
   "parentLayerId": -1,
   "defaultVisibility": true,
   "subLayerIds": null,
   "minScale": 0,
   "maxScale": 418593.6374374205,
   "type": "Feature Layer",
   "geometryType": "esriGeometryPolygon",
   "supportsDynamicLegends": true
  },
  {
   "id": 6,
   "name": "ref.Geo_PLG_Countries_01M_3035",
   "parentLayerId": -1,
   "defaultVisibility": true,
   "subLayerIds": null,
   "minScale": 0,
   "maxScale": 418593.6374374205,
   "type": "Feature Layer",
   "geometryType": "esriGeometryPolygon",
   "supportsDynamicLegends": true
  }
 ],
 "tables": [],
 "spatialReference": {
  "wkid": 3035,
  "latestWkid": 3035,
  "xyTolerance": 0.001,
  "zTolerance": 0.001,
  "mTolerance": 0.001,
  "falseX": -8426600,
  "falseY": -9526700,
  "xyUnits": 10000,
  "falseZ": -100000,
  "zUnits": 10000,
  "falseM": -100000,
  "mUnits": 10000
 },
 "singleFusedMapCache": true,
 "tileInfo": {
  "rows": 256,
  "cols": 256,
  "dpi": 96,
  "format": "PNG",
  "compressionQuality": 0,
  "origin": {
   "x": -8426403.908319328,
   "y": 1.595740390831941E7
  },
  "spatialReference": {
   "wkid": 3035,
   "latestWkid": 3035,
   "xyTolerance": 0.001,
   "zTolerance": 0.001,
   "mTolerance": 0.001,
   "falseX": -8426600,
   "falseY": -9526700,
   "xyUnits": 10000,
   "falseZ": -100000,
   "zUnits": 10000,
   "falseM": -100000,
   "mUnits": 10000
  },
  "lods": [
   {
    "level": 0,
    "resolution": 99589.09303374475,
    "scale": 3.7639972170234233E8
   },
   {
    "level": 1,
    "resolution": 49794.546516872375,
    "scale": 1.8819986085117117E8
   },
   {
    "level": 2,
    "resolution": 24897.273258436187,
    "scale": 9.409993042558558E7
   },
   {
    "level": 3,
    "resolution": 12448.636629218094,
    "scale": 4.704996521279279E7
   },
   {
    "level": 4,
    "resolution": 6224.318314609047,
    "scale": 2.3524982606396396E7
   },
   {
    "level": 5,
    "resolution": 3112.1591573045234,
    "scale": 1.1762491303198198E7
   },
   {
    "level": 6,
    "resolution": 1556.0795786522617,
    "scale": 5881245.651599099
   },
   {
    "level": 7,
    "resolution": 778.0397893261309,
    "scale": 2940622.8257995495
   },
   {
    "level": 8,
    "resolution": 389.01989466306543,
    "scale": 1470311.4128997747
   },
   {
    "level": 9,
    "resolution": 194.50994733153271,
    "scale": 735155.7064498874
   },
   {
    "level": 10,
    "resolution": 97.25497366576636,
    "scale": 367577.8532249437
   },
   {
    "level": 11,
    "resolution": 48.62748683288318,
    "scale": 183788.92661247184
   },
   {
    "level": 12,
    "resolution": 24.31374341644159,
    "scale": 91894.46330623592
   },
   {
    "level": 13,
    "resolution": 12.156871708220795,
    "scale": 45947.23165311796
   },
   {
    "level": 14,
    "resolution": 6.078435854110397,
    "scale": 22973.61582655898
   },
   {
    "level": 15,
    "resolution": 3.0392179270551987,
    "scale": 11486.80791327949
   },
   {
    "level": 16,
    "resolution": 1.5196089635275993,
    "scale": 5743.403956639745
   },
   {
    "level": 17,
    "resolution": 0.7598044817637997,
    "scale": 2871.7019783198725
   },
   {
    "level": 18,
    "resolution": 0.37990224088189983,
    "scale": 1435.8509891599363
   },
   {
    "level": 19,
    "resolution": 0.18995112044094992,
    "scale": 717.9254945799681
   },
   {
    "level": 20,
    "resolution": 0.09497556022047496,
    "scale": 358.96274728998407
   },
   {
    "level": 21,
    "resolution": 0.04748778011023748,
    "scale": 179.48137364499203
   },
   {
    "level": 22,
    "resolution": 0.02374389005511874,
    "scale": 89.74068682249602
   },
   {
    "level": 23,
    "resolution": 0.01187194502755937,
    "scale": 44.87034341124801
   }
  ]
 },
 "storageInfo": {
  "storageFormat": "esriMapCacheStorageModeCompactV2",
  "packetSize": 128
 },
 "initialExtent": {
  "xmin": 1660784.746586143,
  "ymin": 1135598.9330203072,
  "xmax": 6949077.045839128,
  "ymax": 4362086.794171682,
  "spatialReference": {
   "wkid": 3035,
   "latestWkid": 3035,
   "xyTolerance": 0.001,
   "zTolerance": 0.001,
   "mTolerance": 0.001,
   "falseX": -8426600,
   "falseY": -9526700,
   "xyUnits": 10000,
   "falseZ": -100000,
   "zUnits": 10000,
   "falseM": -100000,
   "mUnits": 10000
  }
 },
 "fullExtent": {
  "xmin": -7144219.5586,
  "ymin": -9190601.3922,
  "xmax": 1.69369950954E7,
  "ymax": 1.54283210724E7,
  "spatialReference": {
   "wkid": 3035,
   "latestWkid": 3035,
   "xyTolerance": 0.001,
   "zTolerance": 0.001,
   "mTolerance": 0.001,
   "falseX": -8426600,
   "falseY": -9526700,
   "xyUnits": 10000,
   "falseZ": -100000,
   "zUnits": 10000,
   "falseM": -100000,
   "mUnits": 10000
  }
 },
 "datesInUnknownTimezone": false,
 "minScale": 1.8819986085117117E8,
 "maxScale": 183788.92661247184,
 "minLOD": 1,
 "maxLOD": 11,
 "units": "esriMeters",
 "supportedImageFormatTypes": "PNG32,PNG24,PNG,JPG,DIB,TIFF,EMF,PS,PDF,GIF,SVG,SVGZ,BMP",
 "documentInfo": {
  "Title": "Map",
  "Author": "",
  "Comments": "",
  "Subject": "",
  "Category": "",
  "Version": "3.4.0",
  "AntialiasingMode": "Fast",
  "TextAntialiasingMode": "Force",
  "Keywords": "LAU,NUTS3,Basemap"
 },
 "supportsQueryDomains": true,
 "capabilities": "Map,Query,Data",
 "supportedQueryFormats": "JSON, geoJSON, PBF",
 "exportTilesAllowed": false,
 "referenceScale": 0.0,
 "datumTransformations": [
  {
   "geoTransforms": [
    {
     "wkid": 1149,
     "latestWkid": 1149,
     "transformForward": true,
     "name": "ETRS_1989_To_WGS_1984"
    }
   ]
  },
  {
   "geoTransforms": [
    {
     "wkid": 1149,
     "latestWkid": 1149,
     "transformForward": false,
     "name": "ETRS_1989_To_WGS_1984"
    }
   ]
  }
 ],
 "supportsDatumTransformation": true,
 "archivingInfo": {
  "supportsHistoricMoment": false
 },
 "supportsClipping": true,
 "supportsSpatialFilter": true,
 "supportsTimeRelation": true,
 "supportsQueryDataElements": true,
 "mapUnits": {
  "uwkid": 9001
 },
 "maxRecordCount": 2000,
 "maxImageHeight": 4096,
 "maxImageWidth": 4096,
 "supportedExtensions": "WMSServer",
 "serviceItemId": "5f2b579ce4124f94b8cd9d0415d95efe"
}
