{
 "currentVersion": 11.3,
 "cimVersion": "3.3.0",
 "serviceDescription": "",
 "mapName": "Nuts2_LAEA",
 "description": "",
 "copyrightText": "",
 "supportsDynamicLayers": true,
 "layers": [
  {
   "id": 0,
   "name": "EU/EEA Member States",
   "parentLayerId": -1,
   "defaultVisibility": true,
   "subLayerIds": null,
   "minScale": 0,
   "maxScale": 0,
   "type": "Feature Layer",
   "geometryType": "esriGeometryPolygon",
   "supportsDynamicLegends": true
  },
  {
   "id": 1,
   "name": "Nuts2",
   "parentLayerId": -1,
   "defaultVisibility": true,
   "subLayerIds": null,
   "minScale": 0,
   "maxScale": 0,
   "type": "Feature Layer",
   "geometryType": "esriGeometryPolygon",
   "supportsDynamicLegends": true
  },
  {
   "id": 2,
   "name": "XK",
   "parentLayerId": -1,
   "defaultVisibility": true,
   "subLayerIds": null,
   "minScale": 0,
   "maxScale": 0,
   "type": "Feature Layer",
   "geometryType": "esriGeometryPolygon",
   "supportsDynamicLegends": true
  },
  {
   "id": 3,
   "name": "World",
   "parentLayerId": -1,
   "defaultVisibility": true,
   "subLayerIds": null,
   "minScale": 0,
   "maxScale": 0,
   "type": "Feature Layer",
   "geometryType": "esriGeometryPolygon",
   "supportsDynamicLegends": true
  }
 ],
 "tables": [],
 "spatialReference": {
  "wkid": 3035,
  "latestWkid": 3035,
  "xyTolerance": 0.001,
  "zTolerance": 0.001,
  "mTolerance": 0.001,
  "falseX": -8426600,
  "falseY": -9526700,
  "xyUnits": 10000,
  "falseZ": -100000,
  "zUnits": 10000,
  "falseM": -100000,
  "mUnits": 10000
 },
 "singleFusedMapCache": true,
 "tileInfo": {
  "rows": 256,
  "cols": 256,
  "dpi": 96,
  "format": "PNG",
  "compressionQuality": 0,
  "origin": {
   "x": -8426403.908319328,
   "y": 1.5957403908337977E7
  },
  "spatialReference": {
   "wkid": 3035,
   "latestWkid": 3035,
   "xyTolerance": 0.001,
   "zTolerance": 0.001,
   "mTolerance": 0.001,
   "falseX": -8426600,
   "falseY": -9526700,
   "xyUnits": 10000,
   "falseZ": -100000,
   "zUnits": 10000,
   "falseM": -100000,
   "mUnits": 10000
  },
  "lods": [
   {
    "level": 0,
    "resolution": 99589.09303374475,
    "scale": 3.7639972170234233E8
   },
   {
    "level": 1,
    "resolution": 49794.546516872375,
    "scale": 1.8819986085117117E8
   },
   {
    "level": 2,
    "resolution": 24897.273258436187,
    "scale": 9.409993042558558E7
   },
   {
    "level": 3,
    "resolution": 12448.636629218094,
    "scale": 4.704996521279279E7
   },
   {
    "level": 4,
    "resolution": 6224.318314609047,
    "scale": 2.3524982606396396E7
   },
   {
    "level": 5,
    "resolution": 3112.1591573045234,
    "scale": 1.1762491303198198E7
   },
   {
    "level": 6,
    "resolution": 1556.0795786522617,
    "scale": 5881245.651599099
   },
   {
    "level": 7,
    "resolution": 778.0397893261309,
    "scale": 2940622.8257995495
   },
   {
    "level": 8,
    "resolution": 389.01989466306543,
    "scale": 1470311.4128997747
   },
   {
    "level": 9,
    "resolution": 194.50994733153271,
    "scale": 735155.7064498874
   },
   {
    "level": 10,
    "resolution": 97.25497366576636,
    "scale": 367577.8532249437
   },
   {
    "level": 11,
    "resolution": 48.62748683288318,
    "scale": 183788.92661247184
   },
   {
    "level": 12,
    "resolution": 24.31374341644159,
    "scale": 91894.46330623592
   },
   {
    "level": 13,
    "resolution": 12.156871708220795,
    "scale": 45947.23165311796
   },
   {
    "level": 14,
    "resolution": 6.078435854110397,
    "scale": 22973.61582655898
   },
   {
    "level": 15,
    "resolution": 3.0392179270551987,
    "scale": 11486.80791327949
   },
   {
    "level": 16,
    "resolution": 1.5196089635275993,
    "scale": 5743.403956639745
   },
   {
    "level": 17,
    "resolution": 0.7598044817637997,
    "scale": 2871.7019783198725
   },
   {
    "level": 18,
    "resolution": 0.37990224088189983,
    "scale": 1435.8509891599363
   }
  ]
 },
 "storageInfo": {
  "storageFormat": "esriMapCacheStorageModeCompactV2",
  "packetSize": 128
 },
 "initialExtent": {
  "xmin": 841157.9722525217,
  "ymin": 1431074.1882643695,
  "xmax": 7850308.284718245,
  "ymax": 5623415.897524171,
  "spatialReference": {
   "wkid": 3035,
   "latestWkid": 3035,
   "xyTolerance": 0.001,
   "zTolerance": 0.001,
   "mTolerance": 0.001,
   "falseX": -8426600,
   "falseY": -9526700,
   "xyUnits": 10000,
   "falseZ": -100000,
   "zUnits": 10000,
   "falseM": -100000,
   "mUnits": 10000
  }
 },
 "fullExtent": {
  "xmin": -8426404.408394862,
  "ymin": -9526565.9725622,
  "xmax": 1.7068404408390857E7,
  "ymax": 1.5946565972567223E7,
  "spatialReference": {
   "wkid": 3035,
   "latestWkid": 3035,
   "xyTolerance": 0.001,
   "zTolerance": 0.001,
   "mTolerance": 0.001,
   "falseX": -8426600,
   "falseY": -9526700,
   "xyUnits": 10000,
   "falseZ": -100000,
   "zUnits": 10000,
   "falseM": -100000,
   "mUnits": 10000
  }
 },
 "datesInUnknownTimezone": false,
 "minScale": 1.8819986085117117E8,
 "maxScale": 5881245.651599099,
 "minLOD": 1,
 "maxLOD": 6,
 "units": "esriMeters",
 "supportedImageFormatTypes": "PNG32,PNG24,PNG,JPG,DIB,TIFF,EMF,PS,PDF,GIF,SVG,SVGZ,BMP",
 "documentInfo": {
  "Title": "Map",
  "Author": "",
  "Comments": "",
  "Subject": "",
  "Category": "",
  "Version": "2.6.0",
  "AntialiasingMode": "Fast",
  "TextAntialiasingMode": "Force",
  "Keywords": "Basemap,Nuts2,LAEA"
 },
 "supportsQueryDomains": true,
 "capabilities": "Map,Query,Data",
 "supportedQueryFormats": "JSON, geoJSON, PBF",
 "hasVersionedData": true,
 "exportTilesAllowed": false,
 "referenceScale": 0.0,
 "datumTransformations": [
  {
   "geoTransforms": [
    {
     "wkid": 1149,
     "latestWkid": 1149,
     "transformForward": false,
     "name": "ETRS_1989_To_WGS_1984"
    }
   ]
  },
  {
   "geoTransforms": [
    {
     "wkid": 1149,
     "latestWkid": 1149,
     "transformForward": true,
     "name": "ETRS_1989_To_WGS_1984"
    }
   ]
  }
 ],
 "supportsDatumTransformation": true,
 "archivingInfo": {
  "supportsHistoricMoment": false
 },
 "supportsClipping": true,
 "supportsSpatialFilter": true,
 "supportsTimeRelation": true,
 "supportsQueryDataElements": true,
 "mapUnits": {
  "uwkid": 9001
 },
 "maxRecordCount": 2000,
 "maxImageHeight": 4096,
 "maxImageWidth": 4096,
 "supportedExtensions": "WMSServer",
 "serviceItemId": "2f5e8d35b58c468f8dafe4fe6b20ed39"
}
