{
 "currentVersion": 11.3,
 "cimVersion": "3.3.0",
 "serviceDescription": "This map draws attention to your thematic map content by displaying a neutral background with minimal colors, and features. Only two close complementary shades of gray are used to differentiate between the EU/EEA members and non-members. This two-shades light gray map supports and strong color palette, creating a visually compelling map graphic which helps map readers to spot the patterns intended. This map was built by ECDC GIS Team using EuroGeopgraphics data for administrative boundaries and statistic data provided by EUROSTAT. Scale: 1:3Million (Malta and Liechtenstein); 1:20Million (all other countries). This map may display for the Former Yugoslav Republic of Macedonia a provisional code (MK) that does not affect the definitive denomination of the country to be attributed after the conclusion of the negotiations currently taking place in the United Nations. The administrative boundaries include spatial feature for Kosovo, this designation being without prejudice to positions on status, and is in line with UNSCR 1244 and the ICJ Opinion on the Kosovo Declaration of Independence.",
 "mapName": "WNV Two-shades of grey Canvas",
 "description": "This map draws attention to your thematic map content by displaying a neutral background with minimal colors, and features. Only two close complementary shades of gray are used to differentiate between the EU/EEA members and non-members. This two-shades light gray map supports and strong color palette, creating a visually compelling map graphic which helps map readers to spot the patterns intended. This map was built by ECDC GIS Team using EuroGeopgraphics data for administrative boundaries and statistic data provided by EUROSTAT. Scale: 1:3Million (Malta and Liechtenstein); 1:20Million (all other countries). This map may display for the Former Yugoslav Republic of Macedonia a provisional code (MK) that does not affect the definitive denomination of the country to be attributed after the conclusion of the negotiations currently taking place in the United Nations. The administrative boundaries include spatial feature for Kosovo, this designation being without prejudice to positions on status, and is in line with UNSCR 1244 and the ICJ Opinion on the Kosovo Declaration of Independence.",
 "copyrightText": "ECDC; EuroGeographics and GAUL for admin boundaries.",
 "supportsDynamicLayers": true,
 "layers": [
  {
   "id": 0,
   "name": "WNV members",
   "parentLayerId": -1,
   "defaultVisibility": true,
   "subLayerIds": null,
   "minScale": 0,
   "maxScale": 0,
   "type": "Feature Layer",
   "geometryType": "esriGeometryPolygon",
   "supportsDynamicLegends": true
  },
  {
   "id": 1,
   "name": "GeoLevel1 (Mixed)",
   "parentLayerId": -1,
   "defaultVisibility": false,
   "subLayerIds": null,
   "minScale": 0,
   "maxScale": 0,
   "type": "Feature Layer",
   "geometryType": "esriGeometryPolygon",
   "supportsDynamicLegends": true
  }
 ],
 "tables": [],
 "spatialReference": {
  "wkid": 102100,
  "latestWkid": 3857,
  "xyTolerance": 0.001,
  "zTolerance": 0.001,
  "mTolerance": 0.001,
  "falseX": -2.204125862706707E7,
  "falseY": -3.3265068604224768E7,
  "xyUnits": 1.3538524994349548E8,
  "falseZ": -100000,
  "zUnits": 10000,
  "falseM": -100000,
  "mUnits": 10000
 },
 "singleFusedMapCache": true,
 "tileInfo": {
  "rows": 256,
  "cols": 256,
  "dpi": 96,
  "format": "PNG",
  "compressionQuality": 0,
  "origin": {
   "x": -2.0037508342787E7,
   "y": 2.0037508342787E7
  },
  "spatialReference": {
   "wkid": 102100,
   "latestWkid": 3857,
   "xyTolerance": 0.001,
   "zTolerance": 0.001,
   "mTolerance": 0.001,
   "falseX": -20037700,
   "falseY": -30241100,
   "xyUnits": 1.4892314192838538E8,
   "falseZ": -100000,
   "zUnits": 10000,
   "falseM": -100000,
   "mUnits": 10000
  },
  "lods": [
   {
    "level": 0,
    "resolution": 156543.03392800014,
    "scale": 5.91657527591555E8
   },
   {
    "level": 1,
    "resolution": 78271.51696399994,
    "scale": 2.95828763795777E8
   },
   {
    "level": 2,
    "resolution": 39135.75848200009,
    "scale": 1.47914381897889E8
   },
   {
    "level": 3,
    "resolution": 19567.87924099992,
    "scale": 7.3957190948944E7
   },
   {
    "level": 4,
    "resolution": 9783.93962049996,
    "scale": 3.6978595474472E7
   },
   {
    "level": 5,
    "resolution": 4891.96981024998,
    "scale": 1.8489297737236E7
   },
   {
    "level": 6,
    "resolution": 2445.98490512499,
    "scale": 9244648.868618
   },
   {
    "level": 7,
    "resolution": 1222.992452562495,
    "scale": 4622324.434309
   },
   {
    "level": 8,
    "resolution": 611.4962262813797,
    "scale": 2311162.217155
   },
   {
    "level": 9,
    "resolution": 305.74811314055756,
    "scale": 1155581.108577
   },
   {
    "level": 10,
    "resolution": 152.87405657041106,
    "scale": 577790.554289
   },
   {
    "level": 11,
    "resolution": 76.43702828507324,
    "scale": 288895.277144
   },
   {
    "level": 12,
    "resolution": 38.21851414253662,
    "scale": 144447.638572
   },
   {
    "level": 13,
    "resolution": 19.10925707126831,
    "scale": 72223.819286
   },
   {
    "level": 14,
    "resolution": 9.554628535634155,
    "scale": 36111.909643
   },
   {
    "level": 15,
    "resolution": 4.77731426794937,
    "scale": 18055.954822
   },
   {
    "level": 16,
    "resolution": 2.388657133974685,
    "scale": 9027.977411
   },
   {
    "level": 17,
    "resolution": 1.1943285668550503,
    "scale": 4513.988705
   },
   {
    "level": 18,
    "resolution": 0.5971642835598172,
    "scale": 2256.994353
   },
   {
    "level": 19,
    "resolution": 0.29858214164761665,
    "scale": 1128.497176
   }
  ]
 },
 "storageInfo": {
  "storageFormat": "esriMapCacheStorageModeCompactV2",
  "packetSize": 128
 },
 "initialExtent": {
  "xmin": -2708634.479005768,
  "ymin": 2410097.881248811,
  "xmax": 5061190.221917565,
  "ymax": 3.024097195838615E7,
  "spatialReference": {
   "wkid": 102100,
   "latestWkid": 3857,
   "xyTolerance": 0.001,
   "zTolerance": 0.001,
   "mTolerance": 0.001,
   "falseX": -2.204125862706707E7,
   "falseY": -3.3265068604224768E7,
   "xyUnits": 1.3538524994349548E8,
   "falseZ": -100000,
   "zUnits": 10000,
   "falseM": -100000,
   "mUnits": 10000
  }
 },
 "fullExtent": {
  "xmin": -2.0037507842788246E7,
  "ymin": -3.024097145838615E7,
  "xmax": 2.0037507842788246E7,
  "ymax": 3.024097145838615E7,
  "spatialReference": {
   "wkid": 102100,
   "latestWkid": 3857,
   "xyTolerance": 0.001,
   "zTolerance": 0.001,
   "mTolerance": 0.001,
   "falseX": -2.204125862706707E7,
   "falseY": -3.3265068604224768E7,
   "xyUnits": 1.3538524994349548E8,
   "falseZ": -100000,
   "zUnits": 10000,
   "falseM": -100000,
   "mUnits": 10000
  }
 },
 "datesInUnknownTimezone": false,
 "minScale": 5.91657527591555E8,
 "maxScale": 288895.277144,
 "units": "esriMeters",
 "supportedImageFormatTypes": "PNG32,PNG24,PNG,JPG,DIB,TIFF,EMF,PS,PDF,GIF,SVG,SVGZ,BMP",
 "documentInfo": {
  "Title": "EU/EEA Two-shades of gray Canvas",
  "Author": "ECDC GIS Team",
  "Comments": "This map draws attention to your thematic map content by displaying a neutral background with minimal colors, and features. Only two close complementary shades of gray are used to differentiate between the EU/EEA members and non-members. This two-shades light gray map supports and strong color palette, creating a visually compelling map graphic which helps map readers to spot the patterns intended. This map was built by ECDC GIS Team using EuroGeopgraphics data for administrative boundaries and statistic data provided by EUROSTAT. Scale: 1:3Million (Malta and Liechtenstein); 1:20Million (all other countries). This map may display for the Former Yugoslav Republic of Macedonia a provisional code (MK) that does not affect the definitive denomination of the country to be attributed after the conclusion of the negotiations currently taking place in the United Nations. The administrative boundaries include spatial feature for Kosovo, this designation being without prejudice to positions on status, and is in line with UNSCR 1244 and the ICJ Opinion on the Kosovo Declaration of Independence.",
  "Subject": "Base map showing EU and other three EEA members",
  "Category": "",
  "Version": "10.1",
  "AntialiasingMode": "None",
  "TextAntialiasingMode": "Force",
  "Keywords": "Basemap,gray,canvas,EU,EEA,ECDC,political boundaries,EMMA"
 },
 "supportsQueryDomains": true,
 "capabilities": "Map,Query,Data",
 "supportedQueryFormats": "JSON, geoJSON, PBF",
 "exportTilesAllowed": false,
 "referenceScale": 0.0,
 "datumTransformations": [
  {
   "geoTransforms": [
    {
     "wkid": 108001,
     "latestWkid": 1241,
     "transformForward": true,
     "name": "NAD_1927_To_NAD_1983_NADCON"
    }
   ]
  },
  {
   "geoTransforms": [
    {
     "wkid": 108001,
     "latestWkid": 1241,
     "transformForward": false,
     "name": "NAD_1927_To_NAD_1983_NADCON"
    }
   ]
  }
 ],
 "supportsDatumTransformation": true,
 "archivingInfo": {
  "supportsHistoricMoment": false
 },
 "supportsClipping": true,
 "supportsSpatialFilter": true,
 "supportsTimeRelation": true,
 "supportsQueryDataElements": true,
 "mapUnits": {
  "uwkid": 9001
 },
 "maxRecordCount": 1000,
 "maxImageHeight": 4096,
 "maxImageWidth": 4096,
 "supportedExtensions": "WMSServer",
 "serviceItemId": "c9b026681bae4e6f8ab84fabc11b09fd"
}
