View In:
ArcGIS JavaScript
ArcGIS Online Map Viewer
ArcGIS Earth
ArcGIS Pro
Service Description: This map draws attention to your thematic map content by displaying a neutral background with minimal colors, and features. Only two close complementary shades of gray are used to differentiate between the EU/EEA members and non-members. This two-shades light gray map supports and strong color palette, creating a visually compelling map graphic which helps map readers to spot the patterns intended. This map was built by ECDC GIS Team using EuroGeopgraphics data for administrative boundaries and statistic data provided by EUROSTAT. Scale: 1:3Million (Malta and Liechtenstein); 1:20Million (all other countries). This map may display for the Former Yugoslav Republic of Macedonia a provisional code (MK) that does not affect the definitive denomination of the country to be attributed after the conclusion of the negotiations currently taking place in the United Nations. The administrative boundaries include spatial feature for Kosovo, this designation being without prejudice to positions on status, and is in line with UNSCR 1244 and the ICJ Opinion on the Kosovo Declaration of Independence.
Map Name: EU-EEA Two-shades of grey Canvas
Legend
All Layers and Tables
Dynamic Legend
Dynamic All Layers
Layers:
Description: This map draws attention to your thematic map content by displaying a neutral background with minimal colors, and features. Only two close complementary shades of gray are used to differentiate between the EU/EEA members and non-members. This two-shades light gray map supports and strong color palette, creating a visually compelling map graphic which helps map readers to spot the patterns intended. This map was built by ECDC GIS Team using EuroGeopgraphics data for administrative boundaries and statistic data provided by EUROSTAT. Scale: 1:3Million (Malta and Liechtenstein); 1:20Million (all other countries). This map may display for the Former Yugoslav Republic of Macedonia a provisional code (MK) that does not affect the definitive denomination of the country to be attributed after the conclusion of the negotiations currently taking place in the United Nations. The administrative boundaries include spatial feature for Kosovo, this designation being without prejudice to positions on status, and is in line with UNSCR 1244 and the ICJ Opinion on the Kosovo Declaration of Independence.
Service Item Id: 69cd81f5c9f84a6db59a330e77261d8b
Copyright Text: ECDC; EuroGeographics and GAUL for admin boundaries.
Spatial Reference:
102100
(3857)
LatestVCSWkid(0)
Single Fused Map Cache: true
Tile Info:
- Height: 256
- Width: 256
- DPI: 96
-
Levels of Detail: 20
-
Level ID: 1
[ Start Tile, End Tile ]
- Resolution: 78271.5169639999
- Scale: 2.95828763795777E8
-
Level ID: 2
[ Start Tile, End Tile ]
- Resolution: 39135.7584820001
- Scale: 1.47914381897889E8
-
Level ID: 3
[ Start Tile, End Tile ]
- Resolution: 19567.8792409999
- Scale: 7.3957190948944E7
-
Level ID: 4
[ Start Tile, End Tile ]
- Resolution: 9783.93962049996
- Scale: 3.6978595474472E7
-
Level ID: 5
[ Start Tile, End Tile ]
- Resolution: 4891.96981024998
- Scale: 1.8489297737236E7
- Format: PNG
- Compression Quality: 0.0
- Origin: X: -2.0037508342787E7
Y: 2.0037508342787E7
- Spatial Reference: 102100
(3857)
LatestVCSWkid(0)
Storage Info:
- Storage Format: esriMapCacheStorageModeCompactV2
- Packet Size: 128
Initial Extent:
XMin: -748776.0994067735
YMin: 4047252.814434932
XMax: 3442052.1384573663
YMax: 1.1675874240990704E7
Spatial Reference: 102100
(3857)
LatestVCSWkid(0)
Full Extent:
XMin: -2.0037507842788246E7
YMin: -3.024097145838615E7
XMax: 2.0037507842788246E7
YMax: 3.024097145838615E7
Spatial Reference: 102100
(3857)
LatestVCSWkid(0)
Units: esriMeters
Supported Image Format Types: PNG32,PNG24,PNG,JPG,DIB,TIFF,EMF,PS,PDF,GIF,SVG,SVGZ,BMP
Document Info:
Title: EU/EEA Two-shades of gray Canvas
Author: ECDC GIS Team
Comments: This map draws attention to your thematic map content by displaying a neutral background with minimal colors, and features. Only two close complementary shades of gray are used to differentiate between the EU/EEA members and non-members. This two-shades light gray map supports and strong color palette, creating a visually compelling map graphic which helps map readers to spot the patterns intended. This map was built by ECDC GIS Team using EuroGeopgraphics data for administrative boundaries and statistic data provided by EUROSTAT. Scale: 1:3Million (Malta and Liechtenstein); 1:20Million (all other countries). This map may display for the Former Yugoslav Republic of Macedonia a provisional code (MK) that does not affect the definitive denomination of the country to be attributed after the conclusion of the negotiations currently taking place in the United Nations. The administrative boundaries include spatial feature for Kosovo, this designation being without prejudice to positions on status, and is in line with UNSCR 1244 and the ICJ Opinion on the Kosovo Declaration of Independence.
Subject: Base map showing EU and other three EEA members
Category:
Keywords: Basemap,gray,canvas,EU,EEA,ECDC,political boundaries,EMMA
AntialiasingMode: None
TextAntialiasingMode: Force
Supports Dynamic Layers: true
MaxRecordCount: 1000
MaxImageHeight: 4096
MaxImageWidth: 4096
Supported Query Formats: JSON, geoJSON, PBF
Supports Query Data Elements: true
Min Scale: 5.91657527591555E8
Max Scale: 288895.277144
Supports Datum Transformation: true
Child Resources:
Info
Dynamic Layer
Supported Operations:
Export Map
Identify
QueryLegends
QueryDomains
Find
Return Updates