View In:
ArcGIS JavaScript
ArcGIS Online Map Viewer
ArcGIS Earth
ArcGIS Pro
Service Description: <span style='font-family: Verdana, Arial, Helvetica, sans-serif; color: rgb(0, 0, 0); font-size: 14.4px;'>This map draws attention to your thematic map content by displaying a neutral background with minimal colors, and features. Only two close complementary shades of grey are used to differentiate between the EU/EEA members and non-members. This two-shades light grey map supports any strong color palette, creating a visually compelling map graphic which helps map readers to spot the patterns intended. This map was built by ECDC GIS Team using Eurographics data for administrative boundaries and statistic data provided by EUROSTAT. Scale:1:20Million. </span><div style='font-family: "Avenir Next W01", "Avenir Next W00", "Avenir Next", Avenir, "Helvetica Neue", sans-serif; font-size: 16px;'><font color='#000000' style='font-family: inherit;'><span style='font-family: inherit; font-size: 14.4px;'><br /></span></font></div><div style='font-family: "Avenir Next W01", "Avenir Next W00", "Avenir Next", Avenir, "Helvetica Neue", sans-serif; font-size: 16px;'><font color='#000000' style='font-family: inherit;'><span style='font-family: inherit; font-size: 14.4px;'>The boundaries and names shown and the designations used on this map do not imply official endorsement or acceptance by the European Union.</span><br /></font><div style='font-family: inherit;'><span style='font-family: Verdana, Arial, Helvetica, sans-serif; color: rgb(0, 0, 0); font-size: 14.4px;'><br /></span></div><div style='font-family: inherit;'><span style='font-family: Verdana, Arial, Helvetica, sans-serif; color: rgb(0, 0, 0); font-size: 14.4px;'>The administrative boundaries include spatial feature for Kosovo, this designation being without prejudice to positions on status, and is in line with UNSCR 1244 and the ICJ Opinion on the Kosovo Declaration of Independence.</span></div></div>
Map Name: EU_EEA_Nuts1 Web Mercator
Legend
All Layers and Tables
Layers:
Description:
Service Item Id: bf0ea5b11e0449a8b5dc830029f92bd6
Copyright Text: ECDC
Eurographics
Spatial Reference:
102100
(3857)
LatestVCSWkid(0)
Single Fused Map Cache: true
Tile Info:
- Height: 256
- Width: 256
- DPI: 96
-
Levels of Detail: 24
-
Level ID: 1
[ Start Tile, End Tile ]
- Resolution: 78271.5169639999
- Scale: 2.95828763795777E8
-
Level ID: 2
[ Start Tile, End Tile ]
- Resolution: 39135.7584820001
- Scale: 1.47914381897889E8
-
Level ID: 3
[ Start Tile, End Tile ]
- Resolution: 19567.8792409999
- Scale: 7.3957190948944E7
-
Level ID: 4
[ Start Tile, End Tile ]
- Resolution: 9783.93962049996
- Scale: 3.6978595474472E7
-
Level ID: 5
[ Start Tile, End Tile ]
- Resolution: 4891.96981024998
- Scale: 1.8489297737236E7
- Format: PNG
- Compression Quality: 0.0
- Origin: X: -2.0037508342787E7
Y: 2.0037508342787E7
- Spatial Reference: 102100
(3857)
LatestVCSWkid(0)
Storage Info:
- Storage Format: esriMapCacheStorageModeCompactV2
- Packet Size: 128
Initial Extent:
XMin: -4900207.855196754
YMin: 2771601.98396449
XMax: 6051589.508030961
YMax: 1.244230464849795E7
Spatial Reference: 102100
(0)
LatestVCSWkid(0)
Full Extent:
XMin: -2.0037507067161843E7
YMin: -3.0240971958386146E7
XMax: 2.0037507067161843E7
YMax: 1.8446789711648133E7
Spatial Reference: 102100
(0)
LatestVCSWkid(0)
Units: esriMeters
Supported Image Format Types: PNG32,PNG24,PNG,JPG,DIB,TIFF,EMF,PS,PDF,GIF,SVG,SVGZ,BMP
Document Info:
Title: Map
Author:
Comments:
Subject:
Category:
Keywords: Basemap
AntialiasingMode: Fast
TextAntialiasingMode: Force
Supports Dynamic Layers: false
MaxRecordCount: 2000
MaxImageHeight: 4096
MaxImageWidth: 4096
Supported Query Formats: JSON, geoJSON, PBF
Supports Query Data Elements: true
Min Scale: 2.95828763795777E8
Max Scale: 9244648.868618
Min LOD: 1
Max LOD: 6
Supports Datum Transformation: true
Child Resources:
Info
Supported Operations:
Export Map
QueryLegends
Return Updates