View In:
ArcGIS JavaScript
ArcGIS Online Map Viewer
ArcGIS Earth
ArcGIS Pro
Service Description:
Map Name: WNV Regions LAEA
Legend
All Layers and Tables
Dynamic Legend
Dynamic All Layers
Layers:
Description:
Service Item Id: 17f8f6a2c5894831a98fc38eaee4cf2b
Copyright Text:
Spatial Reference:
3035
(3035)
LatestVCSWkid(0)
Single Fused Map Cache: true
Tile Info:
- Height: 256
- Width: 256
- DPI: 96
-
Levels of Detail: 19
-
Level ID: 0
[ Start Tile, End Tile ]
- Resolution: 99589.09303374475
- Scale: 3.7639972170234233E8
-
Level ID: 1
[ Start Tile, End Tile ]
- Resolution: 49794.546516872375
- Scale: 1.8819986085117117E8
-
Level ID: 2
[ Start Tile, End Tile ]
- Resolution: 24897.273258436187
- Scale: 9.409993042558558E7
-
Level ID: 3
[ Start Tile, End Tile ]
- Resolution: 12448.636629218094
- Scale: 4.704996521279279E7
-
Level ID: 4
[ Start Tile, End Tile ]
- Resolution: 6224.318314609047
- Scale: 2.3524982606396396E7
-
Level ID: 5
[ Start Tile, End Tile ]
- Resolution: 3112.1591573045234
- Scale: 1.1762491303198198E7
-
Level ID: 6
[ Start Tile, End Tile ]
- Resolution: 1556.0795786522617
- Scale: 5881245.651599099
-
Level ID: 7
[ Start Tile, End Tile ]
- Resolution: 778.0397893261309
- Scale: 2940622.8257995495
-
Level ID: 8
[ Start Tile, End Tile ]
- Resolution: 389.01989466306543
- Scale: 1470311.4128997747
-
Level ID: 9
[ Start Tile, End Tile ]
- Resolution: 194.50994733153271
- Scale: 735155.7064498874
-
Level ID: 10
[ Start Tile, End Tile ]
- Resolution: 97.25497366576636
- Scale: 367577.8532249437
-
Level ID: 11
[ Start Tile, End Tile ]
- Resolution: 48.62748683288318
- Scale: 183788.92661247184
-
Level ID: 12
[ Start Tile, End Tile ]
- Resolution: 24.31374341644159
- Scale: 91894.46330623592
-
Level ID: 13
[ Start Tile, End Tile ]
- Resolution: 12.156871708220795
- Scale: 45947.23165311796
-
Level ID: 14
[ Start Tile, End Tile ]
- Resolution: 6.078435854110397
- Scale: 22973.61582655898
-
Level ID: 15
[ Start Tile, End Tile ]
- Resolution: 3.0392179270551987
- Scale: 11486.80791327949
-
Level ID: 16
[ Start Tile, End Tile ]
- Resolution: 1.5196089635275993
- Scale: 5743.403956639745
-
Level ID: 17
[ Start Tile, End Tile ]
- Resolution: 0.7598044817637997
- Scale: 2871.7019783198725
-
Level ID: 18
[ Start Tile, End Tile ]
- Resolution: 0.37990224088189983
- Scale: 1435.8509891599363
- Format: PNG
- Compression Quality: 0.0
- Origin: X: -8426403.908319328
Y: 1.595740390831941E7
- Spatial Reference: 3035
(3035)
LatestVCSWkid(0)
Storage Info:
- Storage Format: esriMapCacheStorageModeCompactV2
- Packet Size: 128
Initial Extent:
XMin: 1864834.8448268934
YMin: 1237949.2032214152
XMax: 7462238.631455418
YMax: 4971041.984239641
Spatial Reference: 3035
(3035)
LatestVCSWkid(0)
Full Extent:
XMin: -8426404.408394862
YMin: -9526565.9725622
XMax: 1.7068404408390857E7
YMax: 1.5946565972567223E7
Spatial Reference: 3035
(3035)
LatestVCSWkid(0)
Units: esriMeters
Supported Image Format Types: PNG32,PNG24,PNG,JPG,DIB,TIFF,EMF,PS,PDF,GIF,SVG,SVGZ,BMP
Document Info:
Title: Map
Author:
Comments:
Subject:
Category:
Keywords: WNV
AntialiasingMode: Fast
TextAntialiasingMode: Force
Supports Dynamic Layers: true
MaxRecordCount: 2000
MaxImageHeight: 4096
MaxImageWidth: 4096
Supported Query Formats: JSON, geoJSON, PBF
Supports Query Data Elements: true
Min Scale: 147914382
Max Scale: 5881245.651599099
Min LOD: 1
Max LOD: 6
Supports Datum Transformation: true
Child Resources:
Info
Dynamic Layer
Supported Operations:
Export Map
Identify
QueryLegends
QueryDomains
Find
Return Updates